BEGIN:VCALENDAR
VERSION:2.0
PRODID:-//Squarespace Inc/Squarespace 6//v6//EN
BEGIN:VEVENT
UID:5df7f37606419709c1de9762@squarespace.com
DTSTAMP:20221013T222141Z
DTSTART:20200112T220000Z
DTEND:20200112T233000Z
SUMMARY:Eastside Lecture Series: The Lowering Of Lake Washington
GEO:47.59592;-122.183185
LOCATION:Mercer Slough Environmental Education Center\, 1625 118th Avenue S
 outheast\, Bellevue\, WA\, 98005\, United States
END:VEVENT
END:VCALENDAR
