BEGIN:VCALENDAR
VERSION:2.0
PRODID:-//Squarespace Inc/Squarespace 6//v6//EN
BEGIN:VEVENT
UID:5fa2e71b2802ef6158fcd836@squarespace.com
DTSTAMP:20201104T174408Z
DTSTART:20201120T030000Z
DTEND:20201120T043000Z
SUMMARY:EHC Virtual Lecture: Alaska-Yukon-Pacific Exposition-1909 with Jane 
 Morton
GEO:40.720756;-74.000761
LOCATION:EHC Virtual Zoom Event
END:VEVENT
END:VCALENDAR
