BEGIN:VCALENDAR
VERSION:2.0
PRODID:-//Squarespace Inc/Squarespace 6//v6//EN
BEGIN:VEVENT
UID:5e45d11cea9997508539e439@squarespace.com
DTSTAMP:20200213T225224Z
DTSTART:20200614T210000Z
DTEND:20200614T230000Z
SUMMARY:Eastside Heritage Center Lecture: The Issei at Barneston Project
GEO:47.59592;-122.183185
LOCATION:Mercer Slough Environmental Education Center\, 1625 118th Avenue S
 outheast\, Bellevue\, WA\, 98005\, United States
END:VEVENT
END:VCALENDAR
