BEGIN:VCALENDAR
VERSION:2.0
PRODID:-//Squarespace Inc/Squarespace 6//v6//EN
BEGIN:VEVENT
UID:6348900bdef7870573a3a6ac@squarespace.com
DTSTAMP:20230117T212017Z
DTSTART:20230416T200000Z
DTEND:20230416T220000Z
SUMMARY:Heritage Lecture Series: Logging History
GEO:47.550702;-122.125638
LOCATION:Lewis Creek Visitor Center\, 5808 Lakemont Boulevard Southeast\, B
 ellevue\, WA\, 98006\, United States
END:VEVENT
END:VCALENDAR
