BEGIN:VCALENDAR
VERSION:2.0
PRODID:-//Squarespace Inc/Squarespace 6//v6//EN
BEGIN:VEVENT
UID:5e458fdfa5db6b6a6ce869a8@squarespace.com
DTSTAMP:20221013T222411Z
DTSTART:20200215T220000Z
DTEND:20200216T000000Z
SUMMARY:Logging History: A Lecture with Steve Williams
GEO:47.550702;-122.125638
LOCATION:Lewis Creek Nature Center\, 5808 Lakemont Boulevard Southeast\, Be
 llevue\, WA\, 98006\, United States
END:VEVENT
END:VCALENDAR
