BEGIN:VCALENDAR
VERSION:2.0
PRODID:-//Squarespace Inc/Squarespace 6//v6//EN
BEGIN:VEVENT
UID:5df7f44ed5e93c008ff3ae91@squarespace.com
DTSTAMP:20191216T214505Z
DTSTART:20200209T220000Z
DTEND:20200210T000000Z
SUMMARY:Eastside Heritage Center Lecture Series: How Settlers Acquired Land
GEO:47.59592;-122.183185
LOCATION:Mercer Slough Environmental Educaion Center\, 1625 118th Avenue So
 utheast\, Bellevue\, WA\, 98005\, United States
END:VEVENT
END:VCALENDAR
