BEGIN:VCALENDAR
VERSION:2.0
PRODID:-//Squarespace Inc/Squarespace 6//v6//EN
BEGIN:VEVENT
UID:5e45cf39cc82ca0ed9c9a452@squarespace.com
DTSTAMP:20200317T203652Z
DTSTART:20200405T210000Z
DTEND:20200405T230000Z
SUMMARY:POSTPONED! Enatai Neighborhood Lecture POSTPONED!
END:VEVENT
END:VCALENDAR
