BEGIN:VCALENDAR
VERSION:2.0
PRODID:-//Squarespace Inc/Squarespace 6//v6//EN
BEGIN:VEVENT
UID:5efea38965a3745dddfef673@squarespace.com
DTSTAMP:20200703T035032Z
DTSTART:20200714T020000Z
DTEND:20200714T033000Z
SUMMARY:EHC Virtual Lecture
GEO:40.720756;-74.000761
LOCATION:Please Register for this Event!\, Email info@eastsideheritagecente
 r.org\, with the subject 7/13/20 lecture
END:VEVENT
END:VCALENDAR
