BEGIN:VCALENDAR
VERSION:2.0
PRODID:-//Squarespace Inc/Squarespace 6//v6//EN
BEGIN:VEVENT
UID:65132de4286ead41dd79ab41@squarespace.com
DTSTAMP:20230926T191935Z
DTSTART:20231007T180000Z
DTEND:20231007T230000Z
SUMMARY:EHC at Kelsey Creek Farm Fair 
GEO:47.605131;-122.16553
LOCATION:410 130th Place Southeast\, Bellevue\, WA\, 98005\, United States
END:VEVENT
END:VCALENDAR
