BEGIN:VCALENDAR
VERSION:2.0
PRODID:-//Squarespace Inc/Squarespace 6//v6//EN
BEGIN:VEVENT
UID:631a38533878de7f4e693865@squarespace.com
DTSTAMP:20230926T191548Z
DTSTART:20221001T180000Z
DTEND:20221001T230000Z
SUMMARY:Kelsey Creek Farm Fair
GEO:47.605131;-122.16553
LOCATION:410 130th Place Southeast\, Bellevue\, WA\, 98005\, United States
END:VEVENT
END:VCALENDAR
