BEGIN:VCALENDAR
VERSION:2.0
PRODID:-//Squarespace Inc/Squarespace 6//v6//EN
BEGIN:VEVENT
UID:61098f349b40a9406156d776@squarespace.com
DTSTAMP:20220908T184539Z
DTSTART:20211002T180000Z
DTEND:20211002T230000Z
SUMMARY:Kelsey Creek Farm Fair 
GEO:47.605131;-122.16553
LOCATION:410 130th Place Southeast\, Bellevue\, WA\, 98005\, United States
END:VEVENT
END:VCALENDAR
