BEGIN:VCALENDAR
VERSION:2.0
PRODID:-//Squarespace Inc/Squarespace 6//v6//EN
BEGIN:VEVENT
UID:61a827288068fb487beb35b4@squarespace.com
DTSTAMP:20211202T015617Z
DTSTART:20211231T200000Z
DTEND:20211231T210000Z
SUMMARY:Put a Record On - Exhibit Closes
GEO:47.62016;-122.194337
LOCATION:Bellevue Library\, 1111 110th Ave NE\, Bellevue\, WA 98004
END:VEVENT
END:VCALENDAR
