BEGIN:VCALENDAR
VERSION:2.0
PRODID:-//Squarespace Inc/Squarespace 6//v6//EN
BEGIN:VEVENT
UID:6181a42610269040eebf8824@squarespace.com
DTSTAMP:20211202T015722Z
DTSTART:20211201T200000Z
DTEND:20211201T210000Z
SUMMARY:Put a Record On - Exhibit Opens
GEO:47.62016;-122.194337
LOCATION:Bellevue Library\, 1111 110th Ave NE\, Bellevue\, WA 98004
END:VEVENT
END:VCALENDAR
