BEGIN:VCALENDAR
VERSION:2.0
PRODID:-//Squarespace Inc/Squarespace 6//v6//EN
BEGIN:VEVENT
UID:6005e041f3041742d8d51c1b@squarespace.com
DTSTAMP:20210208T163636Z
DTSTART:20210316T020000Z
DTEND:20210316T033000Z
SUMMARY:The Eastside Story: Virtual Lecture
END:VEVENT
END:VCALENDAR
