BEGIN:VCALENDAR
VERSION:2.0
PRODID:-//Squarespace Inc/Squarespace 6//v6//EN
BEGIN:VEVENT
UID:60f75e40f8cb0340406185e6@squarespace.com
DTSTAMP:20210803T184612Z
DTSTART:20210811T000000Z
DTEND:20210811T040000Z
SUMMARY:History Hands-on! at Medina Day
GEO:47.621069;-122.231565
LOCATION:7789 Northeast 12th Street\, Medina\, WA\, 98039\, United States
END:VEVENT
END:VCALENDAR
