BEGIN:VCALENDAR
VERSION:2.0
PRODID:-//Squarespace Inc/Squarespace 6//v6//EN
BEGIN:VEVENT
UID:6181a9b0d9466b7444fc073c@squarespace.com
DTSTAMP:20211215T210304Z
DTSTART:20220313T210000Z
DTEND:20220313T230000Z
SUMMARY:Wilburton Neighborhood - Spring Lecture Series
GEO:47.5959;-122.183215
LOCATION:Mercer Slough Environmental Education Center\, 1625 118th Ave SE\, 
 Bellevue\, WA 98005
END:VEVENT
END:VCALENDAR
