BEGIN:VCALENDAR
VERSION:2.0
PRODID:-//Squarespace Inc/Squarespace 6//v6//EN
BEGIN:VEVENT
UID:61fc5a46f204e70041274b54@squarespace.com
DTSTAMP:20220203T224431Z
DTSTART:20220410T210000Z
DTEND:20220410T230000Z
SUMMARY:First Murder on the Eastside - Spring Lecture Series
GEO:47.5959;-122.183215
LOCATION:Mercer Slough Environmental Education Center\, 1625 118th Ave SE\, 
 Bellevue\, WA 98005
END:VEVENT
END:VCALENDAR
