BEGIN:VCALENDAR
VERSION:2.0
PRODID:-//Squarespace Inc/Squarespace 6//v6//EN
BEGIN:VEVENT
UID:6181a990509d1c052cde3d85@squarespace.com
DTSTAMP:20220203T224214Z
DTSTART:20220109T220000Z
DTEND:20220110T000000Z
SUMMARY:First Murder on the Eastside - Spring Lecture Series
GEO:47.5959;-122.183215
LOCATION:Mercer Slough Environmental Education Center\, 1625 118th Ave SE\, 
 Bellevue\, WA 98005
END:VEVENT
END:VCALENDAR
