BEGIN:VCALENDAR
VERSION:2.0
PRODID:-//Squarespace Inc/Squarespace 6//v6//EN
BEGIN:VEVENT
UID:6181a3e58bfb7a05a714949a@squarespace.com
DTSTAMP:20220203T224903Z
DTSTART:20220213T220000Z
DTEND:20220214T000000Z
SUMMARY:Enatai Elementary School - Spring Lecture Series 
GEO:47.5959;-122.183215
LOCATION:Mercer Slough Environmental Education Center\, 1625 118th Ave SE\, 
 Bellevue\, WA 98005
END:VEVENT
END:VCALENDAR
