BEGIN:VCALENDAR
VERSION:2.0
PRODID:-//Squarespace Inc/Squarespace 6//v6//EN
BEGIN:VEVENT
UID:636985e368db17032aa3c769@squarespace.com
DTSTAMP:20221107T222733Z
DTSTART:20230214T170000Z
DTEND:20230215T070000Z
SUMMARY:Exhibit Closing: The Season of Giving 
GEO:47.61749;-122.131353
LOCATION:Crossroads Mall\, 15600 NE 8th St\, Bellevue\, United States
END:VEVENT
END:VCALENDAR
