BEGIN:VCALENDAR
VERSION:2.0
PRODID:-//Squarespace Inc/Squarespace 6//v6//EN
BEGIN:VEVENT
UID:63698547becb4d711b44b4d9@squarespace.com
DTSTAMP:20221117T181719Z
DTSTART:20221201T170000Z
DTEND:20221202T070000Z
SUMMARY:Exhibit Opening: The Season of Giving
GEO:47.61749;-122.131353
LOCATION:Crossroads Mall\, 15600 NE 8th St\, Bellevue\, United States
END:VEVENT
END:VCALENDAR
