BEGIN:VCALENDAR
VERSION:2.0
PRODID:-//Squarespace Inc/Squarespace 6//v6//EN
BEGIN:VEVENT
UID:63c9d2030b1b976142f2497d@squarespace.com
DTSTAMP:20230306T181418Z
DTSTART:20230429T180000Z
DTEND:20230429T230000Z
SUMMARY:Sheep Shearing at Kelsey Creek Farm 
GEO:47.602817;-122.164037
LOCATION:410 130th Place Southeast\, Bellevue\, WA\, 98005\, United States
END:VEVENT
END:VCALENDAR
