BEGIN:VCALENDAR
VERSION:2.0
PRODID:-//Squarespace Inc/Squarespace 6//v6//EN
BEGIN:VEVENT
UID:624f72b748eb6a194a8c73c1@squarespace.com
DTSTAMP:20230119T232803Z
DTSTART:20220430T180000Z
DTEND:20220430T230000Z
SUMMARY:Sheep Shearing at Kelsey Creek Farm
GEO:40.720756;-74.000761
LOCATION:Eastside Heritage Center\, 11660 Main Street\, Bellevue\, United S
 tates
END:VEVENT
END:VCALENDAR
