BEGIN:VCALENDAR
VERSION:2.0
PRODID:-//Squarespace Inc/Squarespace 6//v6//EN
BEGIN:VEVENT
UID:62e813d4a5398f5e2605cf73@squarespace.com
DTSTAMP:20220801T175652Z
DTSTART:20220826T210000Z
DTEND:20220826T230000Z
SUMMARY:Hands-On History! 
GEO:47.5959;-122.183215
LOCATION:Mercer Slough Environmental Education Center\, 1625 118th Ave SE\, 
 Bellevue\, United States
END:VEVENT
END:VCALENDAR
