BEGIN:VCALENDAR
VERSION:2.0
PRODID:-//Squarespace Inc/Squarespace 6//v6//EN
BEGIN:VEVENT
UID:62d067bfd88e072cec7ecd15@squarespace.com
DTSTAMP:20220719T214617Z
DTSTART:20220722T210000Z
DTEND:20220722T230000Z
SUMMARY:Hands-On History!
GEO:47.5959;-122.183215
LOCATION:Mercer Slough Environmental Education Center\, 1625 118th Ave SE\, 
 Bellevue\, United States
END:VEVENT
END:VCALENDAR
