BEGIN:VCALENDAR
VERSION:2.0
PRODID:-//Squarespace Inc/Squarespace 6//v6//EN
BEGIN:VEVENT
UID:62be311bb57fc959d466b359@squarespace.com
DTSTAMP:20220705T192753Z
DTSTART:20220730T170000Z
DTEND:20220731T010000Z
SUMMARY:Bellevue Downtown Arts Market
GEO:40.720756;-74.000761
LOCATION:Eastside Heritage Center\, 11660 Main Street\, Bellevue\, United S
 tates
END:VEVENT
END:VCALENDAR
