BEGIN:VCALENDAR
VERSION:2.0
PRODID:-//Squarespace Inc/Squarespace 6//v6//EN
BEGIN:VEVENT
UID:62f422a6095c244db86719e5@squarespace.com
DTSTAMP:20220810T212903Z
DTSTART:20220828T170000Z
DTEND:20220828T180000Z
SUMMARY:Coal Mining History Walk
GEO:40.720756;-74.000761
LOCATION:Eastside Heritage Center\, 11660 Main Street\, Bellevue\, United S
 tates
END:VEVENT
END:VCALENDAR
