BEGIN:VCALENDAR
VERSION:2.0
PRODID:-//Squarespace Inc/Squarespace 6//v6//EN
BEGIN:VEVENT
UID:6449821267f96e72cf2edd18@squarespace.com
DTSTAMP:20230426T231324Z
DTSTART:20230513T200000Z
DTEND:20230513T230000Z
SUMMARY:Sesión Sin Cita de Historia Oral de la Comunidad
GEO:47.617486;-122.131347
LOCATION:Crossroads Bellevue\, 15600 Northeast 8th Street\, Bellevue\, WA\, 
 98008\, United States
END:VEVENT
END:VCALENDAR
