BEGIN:VCALENDAR
VERSION:2.0
PRODID:-//Squarespace Inc/Squarespace 6//v6//EN
BEGIN:VEVENT
UID:63e40b464099b65ef7094ebb@squarespace.com
DTSTAMP:20230426T195706Z
DTSTART:20230224T200000Z
DTEND:20230224T230000Z
SUMMARY:Oral History Community Drop-in Session
GEO:47.617486;-122.131347
LOCATION:Crossroads Bellevue\, 15600 Northeast 8th Street\, Bellevue\, WA\, 
 98008\, United States
END:VEVENT
END:VCALENDAR
