BEGIN:VCALENDAR
VERSION:2.0
PRODID:-//Squarespace Inc/Squarespace 6//v6//EN
BEGIN:VEVENT
UID:63e165284d040c31928a8f7d@squarespace.com
DTSTAMP:20230208T205118Z
DTSTART:20230215T230000Z
DTEND:20230216T020000Z
SUMMARY:Oral History Community Drop-in Session
GEO:47.617486;-122.131347
LOCATION:Crossroads Bellevue\, 15600 Northeast 8th Street\, Bellevue\, WA\, 
 98008\, United States
END:VEVENT
END:VCALENDAR
