BEGIN:VCALENDAR
VERSION:2.0
PRODID:-//Squarespace Inc/Squarespace 6//v6//EN
BEGIN:VEVENT
UID:634890a6bfa24141acdb15b8@squarespace.com
DTSTAMP:20221226T200839Z
DTSTART:20230319T200000Z
DTEND:20230319T220000Z
SUMMARY:Heritage Lecture Series: Fashion History - Hats
GEO:47.5959;-122.183215
LOCATION:Mercer Slough Environmental Education Center\, 1625 118th Avenue S
 outheast\, Bellevue\, WA\, 98005\, United States
END:VEVENT
END:VCALENDAR
