BEGIN:VCALENDAR
VERSION:2.0
PRODID:-//Squarespace Inc/Squarespace 6//v6//EN
BEGIN:VEVENT
UID:640a6d437c5173312c154ea4@squarespace.com
DTSTAMP:20230314T185628Z
DTSTART:20230415T163000Z
DTEND:20230415T200000Z
SUMMARY:We Are History Keepers!
GEO:47.619366;-122.127783
LOCATION:Crossroads Community Center\, 16000 Northeast 10th Street\, Bellev
 ue\, WA\, 98008\, United States
END:VEVENT
END:VCALENDAR
