BEGIN:VCALENDAR
VERSION:2.0
PRODID:-//Squarespace Inc/Squarespace 6//v6//EN
BEGIN:VEVENT
UID:63c9d0bd1bcbda220d88f4af@squarespace.com
DTSTAMP:20230303T000007Z
DTSTART:20230422T200000Z
DTEND:20230422T213000Z
SUMMARY:Heritage Lecture Series: Alaska Yukon Pacific Exposition
GEO:47.62008;-122.194251
LOCATION:Bellevue Library\, 1111 110th Avenue Northeast\, Bellevue\, WA\, 9
 8004\, United States
END:VEVENT
END:VCALENDAR
