BEGIN:VCALENDAR
VERSION:2.0
PRODID:-//Squarespace Inc/Squarespace 6//v6//EN
BEGIN:VEVENT
UID:647f7c2f6a2b03289975daa5@squarespace.com
DTSTAMP:20230606T184217Z
DTSTART:20230629T233000Z
DTEND:20230630T013000Z
SUMMARY:Bellevue Beats &amp\; Bites: Supporting Eastside Heritage Center
GEO:47.614866;-122.19771
LOCATION:Bellevue Connection Compass Plaza\, 550 106th Avenue Northeast\, B
 ellevue\, WA\, 98004\, United States
END:VEVENT
END:VCALENDAR
