BEGIN:VCALENDAR
VERSION:2.0
PRODID:-//Squarespace Inc/Squarespace 6//v6//EN
BEGIN:VEVENT
UID:6480eb1dd9248e2f308e42ff@squarespace.com
DTSTAMP:20230607T204501Z
DTSTART:20230730T180000Z
DTEND:20230731T000000Z
SUMMARY:Bellevue Downtown Arts Market
GEO:40.720756;-74.000761
LOCATION:Eastside Heritage Center\, [Exact Location Address Will Be Added S
 oon]\, Bellevue\, Washington\, United States
END:VEVENT
END:VCALENDAR
