BEGIN:VCALENDAR
VERSION:2.0
PRODID:-//Squarespace Inc/Squarespace 6//v6//EN
BEGIN:VEVENT
UID:6480eb0e3a0e3b5d9899c382@squarespace.com
DTSTAMP:20230607T204509Z
DTSTART:20230729T170000Z
DTEND:20230730T010000Z
SUMMARY:Bellevue Downtown Arts Market
GEO:40.720756;-74.000761
LOCATION:Eastside Heritage Center\, [Exact Location Address Will Be Added S
 oon]\, Bellevue\, Washington\, United States
END:VEVENT
END:VCALENDAR
