BEGIN:VCALENDAR
VERSION:2.0
PRODID:-//Squarespace Inc/Squarespace 6//v6//EN
BEGIN:VEVENT
UID:6480e9be261ac46c8a193069@squarespace.com
DTSTAMP:20230726T061733Z
DTSTART:20230728T170000Z
DTEND:20230729T010000Z
SUMMARY:Bellevue Downtown Arts Market
GEO:47.610258;-122.18304
LOCATION:Downtown Belleuve\, [Exact Location Address Will Be Added Soon]\, 
 Bellevue\, Washington\, United States
END:VEVENT
END:VCALENDAR
