BEGIN:VCALENDAR
VERSION:2.0
PRODID:-//Squarespace Inc/Squarespace 6//v6//EN
BEGIN:VEVENT
UID:645958e22d370427c6ee9614@squarespace.com
DTSTAMP:20230508T202943Z
DTSTART:20230604T153000Z
DTEND:20230604T183000Z
SUMMARY:EHC at Paws &amp\; Pride Dog Jog &amp\; Walk
GEO:47.619827;-122.195256
LOCATION:Ashwood Park\, 10820 Northeast 10th Street\, Bellevue\, WA\, 98004
 \, United States
END:VEVENT
END:VCALENDAR
